Workbook

Sheet Cattle
A1: Schedule 3
A2: Livestock Numbers and Values
A3: Ensure this is completed and included with your records
A5: CLIENT NAME: | F5: BALANCE DATE:
A8: CATTLE | B8: Closing numbers | C8: Stock Class Transfer (Aging) | E8: Opening Numbers | F8: Natural Increase | G8: Purchases | H8: Sales | I8: Deaths | J8: Closing numbers
C9: + | D9: - | F9: + | G9: + | H9: - | I9: - | J9: =H5 -> 0
A10: Calves | E10: =B10+C10-D10 -> 0
A11: R1 Yr Heifers | D11: =B11 -> 0 | E11: =B11+C11-D11 -> 0 | J11: =SUM(E11+F11+G11-H11-I11) -> 0
A12: R1 Yr Steers/Bulls | D12: =B12 -> 0 | E12: =B12+C12-D12 -> 0 | J12: =SUM(E12+F12+G12-H12-I12) -> 0
A13: R2 Yr Heifers | C13: =D11 -> 0 | D13: =B13 -> 0 | E13: =B13+C13-D13 -> 0 | J13: =SUM(E13+F13+G13-H13-I13) -> 0
A14: MA Cows | C14: =D13 -> 0 | E14: =B14+C14-D14 -> 0 | J14: =SUM(E14+F14+G14-H14-I14) -> 0
A15: R2 Yr Steers/Bulls | C15: =D12 -> 0 | D15: =B15 -> 0 | E15: =B15+C15-D15 -> 0 | J15: =SUM(E15+F15+G15-H15-I15) -> 0
A16: R3 Yr Steers/Bulls | C16: =D15 -> 0 | E16: =B16+C16-D16 -> 0 | J16: =SUM(E16+F16+G16-H16-I16) -> 0
A17: Breeding Bulls | E17: =B17+C17-D17 -> 0 | J17: =SUM(E17+F17+G17-H17-I17) -> 0
A18: TOTAL | B18: =SUM(B10:B17) -> 0 | C18: =SUM(C10:C17) -> 0 | D18: =SUM(D10:D17) -> 0 | E18: =SUM(E10:E17) -> 0 | F18: =SUM(F10:F17) -> 0 | G18: =SUM(G10:G17) -> 0 | H18: =SUM(H10:H17) -> 0 | I18: =SUM(I10:I17) -> 0 | J18: =SUM(J10:J17) -> 0
A21: (Circle Type: Dairy / Beef / Friesian / Jersey)
A23: · Include stock that you own, regardless of where the stock is located.
A24: · Do not include stock owned by other people but grazing on your land.

Sheet Sheep
A1: Schedule 3
A2: Livestock Numbers and Values
A3: Ensure this is completed and included with your records
A5: CLIENT NAME: | F5: BALANCE DATE:
A7: SHEEP | B7: Closing numbers | C7: Stock Class Transfer (Aging) | E7: Opening Numbers | F7: Natural Increase | G7: Purchases | H7: Sales | I7: Deaths | J7: Closing numbers
B8: =Cattle!B9 -> 0 | C8: + | D8: - | E8: =Cattle!E9 -> 0 | F8: + | G8: + | H8: - | I8: - | J8: =Cattle!J9 -> 0
A9: Lambs | E9: =B9+C9-D9 -> 0
A10: Ewe Hoggets | D10: =B10 -> 0 | E10: =B10+C10-D10 -> 0
A11: Ram/Wether Hoggets | D11: =B11 -> 0 | E11: =B11+C11-D11 -> 0
A12: 2th Ewes | C12: =D10 -> 0 | D12: =B12 -> 0 | E12: =B12+C12-D12 -> 0
A13: MA Ewes | C13: =D12 -> 0 | D13: =B13 -> 0 | E13: =B13+C13-D13 -> 0
A14: 5 & 6 Yr Ewes | C14: =D13 -> 0 | E14: =B14+C14-D14 -> 0
A15: MA Wethers | C15: =D11 -> 0 | D15: =B15 -> 0 | E15: =B15+C15-D15 -> 0
A16: Breeding Rams | E16: =B16+C16-D16 -> 0
A17: TOTAL | B17: =SUM(B9:B16) -> 0 | C17: =SUM(C9:C16) -> 0 | D17: =SUM(D9:D16) -> 0 | E17: =SUM(E9:E16) -> 0 | F17: =SUM(F9:F16) -> 0 | G17: =SUM(G9:G16) -> 0 | H17: =SUM(H9:H16) -> 0 | I17: =SUM(I9:I16) -> 0 | J17: =SUM(J9:J16) -> 0
A20: · Include stock that you own, regardless of where the stock is located.
A21: · Do not include stock owned by other people but grazing on your land.

Sheet Deer
A1: Schedule 3
A2: Livestock Numbers and Values
A3: Ensure this is completed and included with your records
A5: CLIENT NAME: | F5: BALANCE DATE:
A7: DEER | B7: Closing numbers | C7: Stock Class Transfer (Aging) | E7: Opening Numbers | F7: Natural Increase | G7: Purchases | H7: Sales | I7: Deaths | J7: Closing numbers
A8: DEER | B8: =Cattle!B9 -> 0 | C8: + | D8: - | E8: =Cattle!E9 -> 0 | F8: + | G8: + | H8: - | I8: - | J8: =Cattle!J9 -> 0
A9: R1 Yr Hinds | D9: =B9 -> 0 | E9: =B9+C9-D9 -> 0
A10: R1 Yr Stags | D10: =B10 -> 0 | E10: =B10+C10-D10 -> 0
A11: R2 Yr Hinds | C11: =D9 -> 0 | D11: =B11 -> 0 | E11: =B11+C11-D11 -> 0
A12: M.A. Hinds | C12: =D11 -> 0 | E12: =B12+C12-D12 -> 0
A13: R2 Yr + Stags | C13: =D10 -> 0 | E13: =B13+C13-D13 -> 0
A14: Breeding Stags | E14: =B14+C14-D14 -> 0
A15: TOTAL | B15: =SUM(B9:B14) -> 0 | C15: =SUM(C9:C14) -> 0 | D15: =SUM(D9:D14) -> 0 | E15: =SUM(E9:E14) -> 0 | F15: =SUM(F9:F14) -> 0 | G15: =SUM(G9:G14) -> 0 | H15: =SUM(H9:H14) -> 0 | I15: =SUM(I9:I14) -> 0 | J15: =SUM(J9:J14) -> 0
A18: (Circle Type: Red/ Wapiti, Elk & Related/Other Breeds)
A20: · Include stock that you own, regardless of where the stock is located.
A21: · Do not include stock owned by other people but grazing on your land.

Sheet Pigs
A1: Schedule 3
A2: Livestock Numbers and Values
A3: Ensure this is completed and included with your records
A5: CLIENT NAME: | F5: BALANCE DATE:
A7: Pigs | B7: Closing numbers | C7: Stock Class Transfer (Aging) | E7: Opening Numbers | F7: Natural Increase | G7: Purchases | H7: Sales | I7: Deaths | J7: Closing numbers | K7: Market Value per Head
A8: DEER | B8: =Cattle!B9 -> 0 | C8: + | D8: - | E8: =Cattle!E9 -> 0 | F8: + | G8: + | H8: - | I8: - | J8: =Cattle!J9 -> 0
A9: Sucklings | D9: =B9 -> 0 | E9: =B9+C9-D9 -> 0
A10: Weaners | C10: =D9 -> 0 | E10: =B10+C10-D10 -> 0
A11: to less than 10 weeks of age
A12: Porkers | E12: =B12+C12-D12 -> 0
A13: Growing pigs 10 - 17 weeks of age
A14: Baconers | D14: =B14 -> 0 | E14: =B14+C14-D14 -> 0
A15: Growing pigs 10 - 17 weeks of age
A16: Baconers | C16: =D14 -> 0 | E16: =B16+C16-D16 -> 0
A17: Growing pigs over 17 weeks of age
A18: Breeding Sows | D18: =B18 -> 0 | E18: =B18+C18-D18 -> 0
A19: less than 1 year
A20: Breeding Sows +1YR | C20: =D18 -> 0 | E20: =B20+C20-D20 -> 0
A21: Breeding Boars | E21: =B21+C21-D21 -> 0
A22: TOTAL | B22: =SUM(B9:B21) -> 0 | C22: =SUM(C9:C21) -> 0 | D22: =SUM(D9:D21) -> 0 | E22: =SUM(E9:E21) -> 0 | F22: =SUM(F9:F21) -> 0 | G22: =SUM(G9:G21) -> 0 | H22: =SUM(H9:H21) -> 0 | I22: =SUM(I9:I21) -> 0 | ... K22: =SUM(K9:K21) -> 0
A23: TOTAL
A24: Please advise information of any other livestock on hand at Balance Date on a separate schedule and in the same format as set out above.
A26: · Include stock that you own, regardless of where the stock is located.
A27: · Do not include stock owned by other people but grazing on your land.

Sheet Goats
A1: Schedule 3
A2: Livestock Numbers and Values
A3: Ensure this is completed and included with your records
A5: CLIENT NAME: | F5: BALANCE DATE:
A7: Goats | B7: Closing numbers | C7: Stock Class Transfer (Aging) | E7: Opening Numbers | F7: Natural Increase | G7: Purchases | H7: Sales | I7: Deaths | J7: Closing numbers
A8: DEER | B8: =Cattle!B9 -> 0 | C8: + | D8: - | E8: =Cattle!E9 -> 0 | F8: + | G8: + | H8: - | I8: - | J8: =Cattle!J9 -> 0
A9: R1 Yr Does | D9: =B9 -> 0 | E9: =B9+C9-D9 -> 0
A10: R1 Yr Bucks/Wethers | D10: =B10 -> 0 | E10: =B10+C10-D10 -> 0
A11: MA Does | C11: =D9 -> 0 | E11: =B11+C11-D11 -> 0
A12: Bucks/Wethers 1 Yr+ | C12: =D10 -> 0 | E12: =B12+C12-D12 -> 0
A13: Breeding Bucks | E13: =B13+C13-D13 -> 0
A14: TOTAL | B14: =SUM(B9:B13) -> 0 | C14: =SUM(C9:C13) -> 0 | D14: =SUM(D9:D13) -> 0 | E14: =SUM(E9:E13) -> 0 | F14: =SUM(F9:F13) -> 0 | G14: =SUM(G9:G13) -> 0 | H14: =SUM(H9:H13) -> 0 | I14: =SUM(I9:I13) -> 0 | J14: =SUM(J9:J13) -> 0
A15: TOTAL
A17: (Circle Type: Angora & Angora Cross/ Other Fibre & Meat Producing/ Milking)
A19: · Include stock that you own, regardless of where the stock is located.
A20: · Do not include stock owned by other people but grazing on your land.
